BEGIN:VCALENDAR
VERSION:2.0
PRODID:-//Pfarrei Galgenen//NONSGML kigkonsult.se iCalcreator 2.16.12//
METHOD:PUBLISH
X-MS-OLK-FORCEINSPECTOROPEN:TRUE
BEGIN:VEVENT
UID:20260420T111244CEST-3361iz7OEk@Pfarrei Galgenen
DTSTAMP:20260420T091244Z
DESCRIPTION:Kein Gottesdienst um 9.30 Uhr!\n Um 14.00 Uhr Gottesdienst unte
 r Mitwirkung des Kirchenchors\,\n anschliessend Gräberbesuch und „Kafistub
 ä“ im Martins-Träff\n 
DTSTART:20251101T140000
DTEND:20251101T150000
ORGANIZER:MAILTO:Pfarrei Galgenen <sekretariat@kg-galgenen.ch>
SUMMARY:Allerheiligen 
END:VEVENT
END:VCALENDAR
