BEGIN:VCALENDAR
VERSION:2.0
PRODID:-//Pfarrei Galgenen//NONSGML kigkonsult.se iCalcreator 2.16.12//
METHOD:PUBLISH
X-MS-OLK-FORCEINSPECTOROPEN:TRUE
BEGIN:VEVENT
UID:20260420T112818CEST-0401UoasP6@Pfarrei Galgenen
DTSTAMP:20260420T092818Z
DESCRIPTION:              PROGRAMM\nFreitag\, 14. November 2025\n17:00 Uhr 
 Eröffnung Festgelände mit Markt\, Festwirtschaft und Foodständen\n18:00 Uh
 r Familienkino “Raus aus dem Teich”\n21:00 Uhr Kinofilm “ TopGun Maverick”
 \nFestwirtschaft mit Band und DJ Betrieb bis 02:00 Uhr\n\nSamstag\, 15. No
 vember 2025\n11:00 Uhr Eröffnung Festgelände mit Markt\, Festwirtschaft un
 d Foodständen\n13:30 Uhr Martinsolympiade\n17:00 Uhr Martinsumzug\n19:45 U
 hr Konzert The Rolling Barrels\n21:00 Uhr Konzert Megawatt\nFestwirtschaft
  mit Live-Musik und mehreren DJs bis 02:00 Uhr\nNeustes Angebot: Samstag 1
 1.00 – 15.30 Uhr: Abseilen vom Kirchturm mit dem Schweizer Alpen-Club SAC\
 , Sektion Zindelspitz\n(nur bei guter Witterung!)\n\nSonntag\, 16. Novembe
 r 2025\n09:30 Uhr Festgottesdienst in der Pfarrkirche mit dem ehemaligen G
 eneralvikar Dr. Martin Kopp\, dem Kirchenchor Galgenen:\n«Missa brevis San
 cti Joannis de Deo» (kleine Orgelsolomesse) und kleinem Orchester\n09:30 U
 hr Kindergottesdienst im Martins-Träff\n10:00 Uhr Eröffnung Festgelände mi
 t Markt\, Festwirtschaft und Foodständen\n10:30 Uhr Jubiläumsbrunch in der
  Eventhalle Tischmacherhof\nFeierlichkeiten bis 15:00 Uhr\n\n\nDas OK freu
 t sich auf viele gut gelaunte\nund neugierige Besucherinnen und Besucher\n
  
DTSTART:20251114T170000
DTEND:20251116T150000
ORGANIZER:MAILTO:Pfarrei Galgenen <sekretariat@kg-galgenen.ch>
SUMMARY:Jubiläums-Wochenende\; 14.-16. November 2025
END:VEVENT
END:VCALENDAR
