BEGIN:VCALENDAR
VERSION:2.0
PRODID:-//Pfarrei Galgenen//NONSGML kigkonsult.se iCalcreator 2.16.12//
METHOD:PUBLISH
X-MS-OLK-FORCEINSPECTOROPEN:TRUE
BEGIN:VEVENT
UID:20260420T105625CEST-96379zH476@Pfarrei Galgenen
DTSTAMP:20260420T085625Z
DESCRIPTION:Entdeckt den Advent als Familie neu mit der Advents-EntdeckerBo
 x!\nAn jedem Adventssonntag oder an vier beliebigen Tagen nehmt ihr euch 1
 5 Minuten Zeit für eine kreative und besinnliche Auszeit im Vorweihnachtss
 tress.\nIn der Box findet ihr Geschichten\, Figuren\, Kerzenständer und vi
 ele weitere Überraschungen\, mit denen ihr gemeinsam jede Woche etwas Neue
 s aufbaut und entdeckt.\n\nDas Besondere: Die Box wird nicht einfach gekau
 ft – ihr gestaltet sie selbst! Bei unserer 'Expeditionsvorbereitung» am Sa
 mstag\,\n8. November 2025 um 9.30 Uhr – ca. 13:30 Uhr kommt die ganze Fami
 lie zusammen\, um mit Säge\, Hammer und Co. eure ganz persönliche Entdecke
 rBox zu erschaffen.\nSelbstverständlich kommen auch der Gaumen und der Mag
 en nicht zu kurz. Wir freuen uns auf Sie!\n\nAnmeldung bis 7. November:\nM
 ail: sekretariat@kg-galgenen.ch oder Tel. 055 440 13 94\n 
DTSTART:20251108T093000
DTEND:20251108T133000
ORGANIZER:MAILTO:Pfarrei Galgenen <sekretariat@kg-galgenen.ch>
SUMMARY:Advent EntdeckerBox 
END:VEVENT
END:VCALENDAR
