BEGIN:VCALENDAR
VERSION:2.0
PRODID:-//Pfarrei Galgenen//NONSGML kigkonsult.se iCalcreator 2.16.12//
METHOD:PUBLISH
X-MS-OLK-FORCEINSPECTOROPEN:TRUE
BEGIN:VEVENT
UID:20260420T111416CEST-4918OuaMCl@Pfarrei Galgenen
DTSTAMP:20260420T091416Z
DESCRIPTION:Sunntigskafi für ALLI im Martins-Träff\,\nzum gemütlichen Schwa
 tz bei Kaffee und Kuchen.\n\n 
DTSTART:20251130T100000
DTEND:20251130T120000
ORGANIZER:MAILTO:Pfarrei Galgenen <sekretariat@kg-galgenen.ch>
SUMMARY:Sunntigskafi für ALLI
END:VEVENT
END:VCALENDAR
