BEGIN:VCALENDAR
VERSION:2.0
PRODID:-//Pfarrei Galgenen//NONSGML kigkonsult.se iCalcreator 2.16.12//
METHOD:PUBLISH
X-MS-OLK-FORCEINSPECTOROPEN:TRUE
BEGIN:VEVENT
UID:20260420T105625CEST-50916Vw81K@Pfarrei Galgenen
DTSTAMP:20260420T085625Z
DESCRIPTION:Adventskonzert des Musikverein Galgenen in der Pfarrkirche St. 
 Martin.\n\n 
DTSTART:20251130T170000
DTEND:20251130T190000
ORGANIZER:MAILTO:Pfarrei Galgenen <sekretariat@kg-galgenen.ch>
SUMMARY:Adventkonzert des Musikverein Galgenen 
END:VEVENT
END:VCALENDAR
