BEGIN:VCALENDAR
VERSION:2.0
PRODID:-//Pfarrei Galgenen//NONSGML kigkonsult.se iCalcreator 2.16.12//
METHOD:PUBLISH
X-MS-OLK-FORCEINSPECTOROPEN:TRUE
BEGIN:VEVENT
UID:20260420T111244CEST-7605EFTegj@Pfarrei Galgenen
DTSTAMP:20260420T091244Z
DESCRIPTION:Rorate-Gottesdienst in der Pfarrkirche für ALLE\, mit anschlies
 sendem kleinen Frühstück im Martins-Träff.\nDetails entnehmen Sie dem Flye
 r unter DOWNLOADS \n\nKein Gottesdienst um 9.30 Uhr
DTSTART:20251220T063000
DTEND:20251220T180000
ORGANIZER:MAILTO:Pfarrei Galgenen <sekretariat@kg-galgenen.ch>
SUMMARY:Rorate-Gottesdienst für ALLE 
END:VEVENT
END:VCALENDAR
