BEGIN:VCALENDAR
VERSION:2.0
PRODID:-//Pfarrei Galgenen//NONSGML kigkonsult.se iCalcreator 2.16.12//
METHOD:PUBLISH
X-MS-OLK-FORCEINSPECTOROPEN:TRUE
BEGIN:VEVENT
UID:20260420T105538CEST-3410lW8Huf@Pfarrei Galgenen
DTSTAMP:20260420T085538Z
DESCRIPTION:Kein Gottesdienst um 9.30 Uhr\n\n16.00 Uhr  Krippenspiel mit Ko
 mmunionfeier\, mitgestaltet von Kindern aus Galgenen\,\n                  
   musikalisch begleitet von Fabienne Bisig\n\n18.00 Uhr  Weihnachtsmesse\,
  musikalisch begleitet von Urban Huber\, Klarinette und Andreas Diethelm\,
  Orgel\n 
DTSTART:20251224T160000
DTEND:20251224T190000
ORGANIZER:MAILTO:Pfarrei Galgenen <sekretariat@kg-galgenen.ch>
SUMMARY:HEILIG ABEND 
END:VEVENT
END:VCALENDAR
