BEGIN:VCALENDAR
VERSION:2.0
PRODID:-//Pfarrei Galgenen//NONSGML kigkonsult.se iCalcreator 2.16.12//
METHOD:PUBLISH
X-MS-OLK-FORCEINSPECTOROPEN:TRUE
BEGIN:VEVENT
UID:20260420T111237CEST-8625uw0mbw@Pfarrei Galgenen
DTSTAMP:20260420T091237Z
DESCRIPTION:07.30 Uhr  Hirtenfeier in der Pfarrkirche\n                    
 Pünktlich zu Weihnachten kommt unser Hirte Elay zur Krippe in der Pfarrkir
 che Galgenen.\n                    Christina Mariño wird ihn feierlich emp
 fangen und freut sich über weitere Besucher.\n\n\n 
DTSTART:20251225T073000
DTEND:20251225T080000
ORGANIZER:MAILTO:Pfarrei Galgenen <sekretariat@kg-galgenen.ch>
SUMMARY:WEIHNACHTEN - Empfang Hirte Elay
END:VEVENT
END:VCALENDAR
