BEGIN:VCALENDAR
VERSION:2.0
PRODID:-//Pfarrei Galgenen//NONSGML kigkonsult.se iCalcreator 2.16.12//
METHOD:PUBLISH
X-MS-OLK-FORCEINSPECTOROPEN:TRUE
BEGIN:VEVENT
UID:20260420T111249CEST-91894dRW1U@Pfarrei Galgenen
DTSTAMP:20260420T091249Z
DESCRIPTION:Wir treffen uns letztmals im Jahr 2025 zum gemütlichen Schwatz 
 bei Kaffee und Kuchen und lassen\ndas alte Jahr ausklingen.\n             
              \n… NEWS – NEWS – NEWS – NEWS – NEWS …\n\nEs freut uns mitzut
 eilen\, dass wir beschlossen haben\, das «Sunntigskafi für ALLI» weiterzuf
 ühren. Gemeinsam mit der FMG\, Frauen und Müttergemeinschaft Galgenen werd
 en wir es wie in diesem Jahr\, jeden letzten Sonntag im Monat im gleichen 
 Rahmen anbieten.\nDie FMG und wir freuen uns\, wenn das Angebot auch weite
 rhin so genutzt wird wie in diesem Jahr.\nNeu werden wir das Sunntigskafi 
 für ALLI bereits ab 9.00 – ca. 12.00 Uhr anbieten. Auch wenn sie den Gotte
 sdienst nicht besuchen\, sind sie herzlich willkommen.\nSunntigskafi-Team 
 und FMG\n\n
DTSTART:20251228T173000
DTEND:20251228T180000
ORGANIZER:MAILTO:Pfarrei Galgenen <sekretariat@kg-galgenen.ch>
SUMMARY:Sunntigskafi für ALLI
END:VEVENT
END:VCALENDAR
