BEGIN:VCALENDAR
VERSION:2.0
PRODID:-//Pfarrei Galgenen//NONSGML kigkonsult.se iCalcreator 2.16.12//
METHOD:PUBLISH
X-MS-OLK-FORCEINSPECTOROPEN:TRUE
BEGIN:VEVENT
UID:20260420T111250CEST-2771O2Wtvz@Pfarrei Galgenen
DTSTAMP:20260420T091250Z
DESCRIPTION:Festgottesdienst zum Dreikönigstag in der Pfarrkirche\, mit Br.
  Kletus Hutter\n\n 
DTSTART:20260106T093000
DTEND:20260106T103000
ORGANIZER:MAILTO:Pfarrei Galgenen <sekretariat@kg-galgenen.ch>
SUMMARY:Erscheinung des Herrn 
END:VEVENT
END:VCALENDAR
