BEGIN:VCALENDAR
VERSION:2.0
PRODID:-//Pfarrei Galgenen//NONSGML kigkonsult.se iCalcreator 2.16.12//
METHOD:PUBLISH
X-MS-OLK-FORCEINSPECTOROPEN:TRUE
BEGIN:VEVENT
UID:20260420T110953CEST-1513t4PuBM@Pfarrei Galgenen
DTSTAMP:20260420T090953Z
DESCRIPTION:Festgottesdienst unter Mitwirkung der JuBla.\nWir beginnen vor 
 dem Martins-Träff mit der Segnung der Palmzweige\, und begeben uns anschli
 essend in die Pfarrkirche.\nIm Anschluss an den Gottesdienst führt die JuB
 la im Martins-Träff ein 'Chiläkafi'\, bei einem gemütlichen Kaffee kann no
 ch etwas geplaudert werden.
DTSTART:20190414T090000
DTEND:20190414T103000
ORGANIZER:MAILTO:Pfarrei Galgenen <sekretariat@kg-galgenen.ch>
SUMMARY:Palmsonntag 
END:VEVENT
END:VCALENDAR
