BEGIN:VCALENDAR
VERSION:2.0
PRODID:-//Pfarrei Galgenen//NONSGML kigkonsult.se iCalcreator 2.16.12//
METHOD:PUBLISH
X-MS-OLK-FORCEINSPECTOROPEN:TRUE
BEGIN:VEVENT
UID:20260420T110951CEST-3299mUneMS@Pfarrei Galgenen
DTSTAMP:20260420T090951Z
DESCRIPTION:Die Feier wird von den diesjährigen Erstkommunikanten mitgestal
 tet.
DTSTART:20190418T193000
DTEND:20190418T203000
ORGANIZER:MAILTO:Pfarrei Galgenen <sekretariat@kg-galgenen.ch>
SUMMARY:Gründonnerstag\, Abendmahlfeier
END:VEVENT
END:VCALENDAR
