BEGIN:VCALENDAR
VERSION:2.0
PRODID:-//Pfarrei Galgenen//NONSGML kigkonsult.se iCalcreator 2.16.12//
METHOD:PUBLISH
X-MS-OLK-FORCEINSPECTOROPEN:TRUE
BEGIN:VEVENT
UID:20260420T111055CEST-8599doSjfK@Pfarrei Galgenen
DTSTAMP:20260420T091055Z
DESCRIPTION:Karfreitagsliturgie ohne Kommunionfeier\, zum Leiden und Sterbe
 n Christi.\nMusikalisch wird die Feier mitgestaltet von unseren Kantoren. 
 \nIm Anschluss besteht Beichtgelegenheit.\n 
DTSTART:20190419T150000
DTEND:20190419T160000
ORGANIZER:MAILTO:Pfarrei Galgenen <sekretariat@kg-galgenen.ch>
SUMMARY:Karfreitag
END:VEVENT
END:VCALENDAR
