BEGIN:VCALENDAR
VERSION:2.0
PRODID:-//Pfarrei Galgenen//NONSGML kigkonsult.se iCalcreator 2.16.12//
METHOD:PUBLISH
X-MS-OLK-FORCEINSPECTOROPEN:TRUE
BEGIN:VEVENT
UID:20260420T150522CEST-8947UDbeUr@Pfarrei Galgenen
DTSTAMP:20260420T130522Z
DESCRIPTION:Am Karsamstag findet kein Gottesdienst statt !
DTSTART:20190420T090000
DTEND:20190420T103000
ORGANIZER:MAILTO:Pfarrei Galgenen <sekretariat@kg-galgenen.ch>
SUMMARY:Kein Gottesdienst am Ostersamstag
END:VEVENT
END:VCALENDAR
